BEGIN:VCALENDAR
VERSION:2.0
PRODID:-//Events Plugin//NONSGML v1.0//EN
CALSCALE:GREGORIAN
METHOD:PUBLISH
BEGIN:VEVENT
UID:179b2b84b368090bd710ccc3a8e5c84d@sss.is
DTSTAMP:20260424T180121Z
DTSTART:20260930
DTEND:20261001
SUMMARY:Askur
DESCRIPTION:Askur mannvirkjarannsóknasjóður veitir styrki til nýsköpunar – og mannvirkjarannsókna með áherslu á aukna þekkingu\\, umbætur og nýsköpun til að mæta samfélagslegum áskorunum á sviði mannvirkjagerðar. Opnað er fyrir umsóknir í lok
URL:https://sss.is/vidburdir/askur/
END:VEVENT
END:VCALENDAR
