BEGIN:VCALENDAR
VERSION:2.0
PRODID:-//Events Plugin//NONSGML v1.0//EN
CALSCALE:GREGORIAN
METHOD:PUBLISH
BEGIN:VEVENT
UID:c8520d80d554d1251061e863ee9f1a81@sss.is
DTSTAMP:20260424T163731Z
DTSTART:20270331
DTEND:20270401
SUMMARY:Atvinnumál kvenna 🦸‍♀️
DESCRIPTION:Styrkjum til atvinnumála kvenna er úthlutað einu sinni á ári en þeir eru ætlaðir konum sem eru að vinna að viðskiptahugmynd eða þróa verkefni.  Markmiði er að auka aðgengi frumkvöðlakvenna að fjármagni. Hámarksstyrkur er 4 milljónir
URL:https://sss.is/vidburdir/atvinnumal-kvenna/
END:VEVENT
END:VCALENDAR
