BEGIN:VCALENDAR
VERSION:2.0
PRODID:-//Events Plugin//NONSGML v1.0//EN
CALSCALE:GREGORIAN
METHOD:PUBLISH
BEGIN:VEVENT
UID:448ff3f59e4ed460d4c8f9e0851d21c5@sss.is
DTSTAMP:20260424T192322Z
DTSTART:20261031
DTEND:20261101
SUMMARY:Frumkvöðlasjóður Íslandsbanka 🏦
DESCRIPTION:Frumkvöðlasjóður Íslandsbanka styrkir frumkvöðla og sprotafyrirtæki sem styðja við þau fjögur heimsmarkmið Sameinuðu þjóðanna sem bankinn hefur valið að leggja sérstaka áherslu á: menntun fyrir alla\\, jafnrétti kynjanna\\, nýsköp
URL:https://sss.is/vidburdir/frumkvodlasjodur-islandsbanka/
END:VEVENT
END:VCALENDAR
