BEGIN:VCALENDAR
VERSION:2.0
PRODID:-//Events Plugin//NONSGML v1.0//EN
CALSCALE:GREGORIAN
METHOD:PUBLISH
BEGIN:VEVENT
UID:40660934eebc80b93cbbcefcf64148b7@sss.is
DTSTAMP:20260424T133911Z
DTSTART:20260428T080000
DTEND:20260429T080000
SUMMARY:Iceland innovation week
DESCRIPTION:Landshlutasamtökin taka þátt í Iceland Innovation Week 28. - 29. apríl með kynningu á þátttakendum í viðskiptahraðlinum Startup Landið.
URL:https://sss.is/vidburdir/iceland-innovation-week/
END:VEVENT
END:VCALENDAR
