BEGIN:VCALENDAR
VERSION:2.0
PRODID:-//Events Plugin//NONSGML v1.0//EN
CALSCALE:GREGORIAN
METHOD:PUBLISH
BEGIN:VEVENT
UID:12c40ff38f1a20d8ee08e451a390885e@sss.is
DTSTAMP:20260424T162742Z
DTSTART:20270331
DTEND:20270401
SUMMARY:Lóa - nýsköpunarstyrkir fyrir landsbyggðina 👩‍🌾
DESCRIPTION:Styrkjum er úthlutað til nýsköpunarverkefna utan höfuðborgarasvæðisins. Áhersla er á að styðja við atvinnulíf og verðmætasköpun sem og stuðla að uppbyggingu vistkerfis fyrir nýsköpunarstarfsemi.  Umsóknarfrestur: ~ mar. 2027
URL:https://sss.is/vidburdir/loa-nyskopunarstyrkir-fyrir-landsbyggdina/
END:VEVENT
END:VCALENDAR
