BEGIN:VCALENDAR
VERSION:2.0
PRODID:-//Events Plugin//NONSGML v1.0//EN
CALSCALE:GREGORIAN
METHOD:PUBLISH
BEGIN:VEVENT
UID:63537dc0cab272a6244a63d522f8788a@sss.is
DTSTAMP:20260424T163720Z
DTSTART:20260630
DTEND:20260701
SUMMARY:Loftslagssjóður ⛅️
DESCRIPTION:Styrkir annars vegar nýsköpunarverkefni sem skila samdrætti í losun gróðurhúsalofttegunda og hins vegar kynningar og fræðsluverkefni sem eru til þess fallin að virkja almenning og atvinnulíf til aðgerða.  Umsóknarfrestur: ~ jún. 2026
URL:https://sss.is/vidburdir/loftslagssjodur/
END:VEVENT
END:VCALENDAR
