BEGIN:VCALENDAR
VERSION:2.0
PRODID:-//Events Plugin//NONSGML v1.0//EN
CALSCALE:GREGORIAN
METHOD:PUBLISH
BEGIN:VEVENT
UID:18744f4bed71518e2f559b86376f1089@sss.is
DTSTAMP:20260424T180218Z
DTSTART:20260915
DTEND:20260916
SUMMARY:Rannsóknarverkefni - Tækniþróunarsjóður ⚙️
DESCRIPTION:Hagnýt rannsóknarverkefni hafa það að markmiði að afla nýrrar þekkingar og kunnáttu sem nýtist til að þróa nýjar vörur\\, verkferla eða þjónustu.  Umsóknarfrestur: 2026-09-15
URL:https://sss.is/vidburdir/rannsoknarverkefni-taeknithrounarsjodur/
END:VEVENT
END:VCALENDAR
