BEGIN:VCALENDAR
VERSION:2.0
PRODID:-//Events Plugin//NONSGML v1.0//EN
CALSCALE:GREGORIAN
METHOD:PUBLISH
BEGIN:VEVENT
UID:c953a9c2475a5736160fc4e0cf01034e@sss.is
DTSTAMP:20260422T012321Z
DTSTART:20260915
DTEND:20260916
SUMMARY:Sproti - Tækniþróunarsjóður ⚙️
DESCRIPTION:Fyrir ung nýsköpunarfyrirtæki og frumkvöðla til að styðja við verkefni á byrjunarstigi. Hámarksstyrkur 20 milljónir á tveimur árum.  Umsóknarfrestur: 2026-09-15
URL:https://sss.is/vidburdir/sproti-taeknithrounarsjodur/
END:VEVENT
END:VCALENDAR
