BEGIN:VCALENDAR
VERSION:2.0
PRODID:-//Events Plugin//NONSGML v1.0//EN
CALSCALE:GREGORIAN
METHOD:PUBLISH
BEGIN:VEVENT
UID:a65943db1810c55bb2d4ce78d2a45284@sss.is
DTSTAMP:20260424T163738Z
DTSTART:20260915
DTEND:20260916
SUMMARY:Vöxtur / Sprettur - Tækniþróunarsjóður ⚙️
DESCRIPTION:Fyrir lítil og meðalstór fyrirtæki. Hámarksstyrkur 50-70 milljónir á tveimur árum.  Umsóknarfrestur: 2026-09-15
URL:https://sss.is/vidburdir/voxtur-sprettur-taeknithrounarsjodur/
END:VEVENT
END:VCALENDAR
